Package: ceRNAnetsim Version: 1.20.0 Command: /home/biocbuild/R/R/bin/R CMD build --keep-empty-dirs --no-resave-data ceRNAnetsim StartedAt: 2025-05-15 23:26:02 -0000 (Thu, 15 May 2025) EndedAt: 2025-05-15 23:33:33 -0000 (Thu, 15 May 2025) EllapsedTime: 451.1 seconds RetCode: 0 Status: OK PackageFile: ceRNAnetsim_1.20.0.tar.gz PackageFileSize: 2.941 MiB