Package: ccrepe Version: 1.42.0 Command: /home/biocbuild/R/R/bin/R CMD INSTALL ccrepe StartedAt: 2025-01-30 20:06:10 -0000 (Thu, 30 Jan 2025) EndedAt: 2025-01-30 20:06:33 -0000 (Thu, 30 Jan 2025) EllapsedTime: 23.2 seconds RetCode: 0 Status: OK