Package: ccrepe Version: 1.42.0 Command: /home/biocbuild/R/R/bin/R CMD check --install=check:ccrepe.install-out.txt --library=/home/biocbuild/R/R/site-library --no-vignettes --timings ccrepe_1.42.0.tar.gz StartedAt: 2025-02-04 05:25:17 -0000 (Tue, 04 Feb 2025) EndedAt: 2025-02-04 05:25:54 -0000 (Tue, 04 Feb 2025) EllapsedTime: 37.0 seconds RetCode: 0 Status: OK CheckDir: ccrepe.Rcheck Warnings: 0