Package: ccmap Version: 1.34.0 Command: rm -rf ccmap.buildbin-libdir && mkdir ccmap.buildbin-libdir && /Users/biocbuild/BBS/utils/build-universal.sh ccmap_1.34.0.tar.gz /Library/Frameworks/R.framework/Resources/bin/R ccmap.buildbin-libdir StartedAt: 2025-05-02 12:36:03 -0400 (Fri, 02 May 2025) EndedAt: 2025-05-02 12:36:38 -0400 (Fri, 02 May 2025) EllapsedTime: 35.0 seconds RetCode: 0 Status: OK PackageFile: ccmap_1.34.0.tgz PackageFileSize: 418 KiB