Package: ccmap Version: 1.34.0 Command: /Library/Frameworks/R.framework/Resources/bin/R CMD build --keep-empty-dirs --no-resave-data ccmap StartedAt: 2025-05-05 20:23:51 -0400 (Mon, 05 May 2025) EndedAt: 2025-05-05 20:26:27 -0400 (Mon, 05 May 2025) EllapsedTime: 155.8 seconds RetCode: 0 Status: OK PackageFile: ccmap_1.34.0.tar.gz PackageFileSize: 444.4 KiB