Package: ccfindR Version: 1.28.0 Command: /Library/Frameworks/R.framework/Resources/bin/R CMD build --keep-empty-dirs --no-resave-data ccfindR StartedAt: 2025-09-29 17:40:57 -0400 (Mon, 29 Sep 2025) EndedAt: 2025-09-29 17:40:59 -0400 (Mon, 29 Sep 2025) EllapsedTime: 2.1 seconds RetCode: 1 Status: ERROR PackageFile: None PackageFileSize: NA