Package: ccfindR Version: 1.28.0 Command: /Library/Frameworks/R.framework/Resources/bin/R CMD build --keep-empty-dirs --no-resave-data ccfindR StartedAt: 2025-05-12 20:21:14 -0400 (Mon, 12 May 2025) EndedAt: 2025-05-12 20:21:15 -0400 (Mon, 12 May 2025) EllapsedTime: 1.2 seconds RetCode: 1 Status: ERROR PackageFile: None PackageFileSize: NA