Package: ccImpute Version: 1.10.0 Command: /home/biocbuild/bbs-3.21-bioc/R/bin/R CMD build --keep-empty-dirs --no-resave-data ccImpute StartedAt: 2025-09-28 16:51:00 -0400 (Sun, 28 Sep 2025) EndedAt: 2025-09-28 16:54:35 -0400 (Sun, 28 Sep 2025) EllapsedTime: 215.2 seconds RetCode: 0 Status: OK PackageFile: ccImpute_1.10.0.tar.gz PackageFileSize: 986 KiB