Package: ccImpute Version: 1.10.0 Command: /Library/Frameworks/R.framework/Resources/bin/R CMD build --keep-empty-dirs --no-resave-data ccImpute StartedAt: 2025-10-06 17:39:51 -0400 (Mon, 06 Oct 2025) EndedAt: 2025-10-06 17:48:32 -0400 (Mon, 06 Oct 2025) EllapsedTime: 520.4 seconds RetCode: 0 Status: OK PackageFile: ccImpute_1.10.0.tar.gz PackageFileSize: 986 KiB