Package: categoryCompare Version: 1.50.0 Command: /home/biocbuild/bbs-3.20-bioc/R/bin/R CMD check --install=check:categoryCompare.install-out.txt --library=/home/biocbuild/bbs-3.20-bioc/R/site-library --timings categoryCompare_1.50.0.tar.gz StartedAt: 2024-11-19 23:54:12 -0500 (Tue, 19 Nov 2024) EndedAt: 2024-11-19 23:58:28 -0500 (Tue, 19 Nov 2024) EllapsedTime: 255.8 seconds RetCode: 0 Status: OK CheckDir: categoryCompare.Rcheck Warnings: 0