Package: categoryCompare Version: 1.50.0 Command: F:\biocbuild\bbs-3.20-bioc\R\bin\R.exe CMD INSTALL categoryCompare StartedAt: 2025-01-30 16:30:04 -0500 (Thu, 30 Jan 2025) EndedAt: 2025-01-30 16:32:38 -0500 (Thu, 30 Jan 2025) EllapsedTime: 154.0 seconds RetCode: 0 Status: OK