Package: categoryCompare Version: 1.50.0 Command: F:\biocbuild\bbs-3.20-bioc\R\bin\R.exe CMD check --no-multiarch --install=check:categoryCompare.install-out.txt --library=F:\biocbuild\bbs-3.20-bioc\R\library --no-vignettes --timings categoryCompare_1.50.0.tar.gz StartedAt: 2025-01-31 00:12:44 -0500 (Fri, 31 Jan 2025) EndedAt: 2025-01-31 00:16:33 -0500 (Fri, 31 Jan 2025) EllapsedTime: 228.9 seconds RetCode: 0 Status: OK CheckDir: categoryCompare.Rcheck Warnings: 0