Package: categoryCompare Version: 1.50.0 Command: rm -rf categoryCompare.buildbin-libdir && mkdir categoryCompare.buildbin-libdir && F:\biocbuild\bbs-3.20-bioc\R\bin\R.exe CMD INSTALL --build --library=categoryCompare.buildbin-libdir categoryCompare_1.50.0.tar.gz StartedAt: 2025-01-31 08:18:35 -0500 (Fri, 31 Jan 2025) EndedAt: 2025-01-31 08:24:40 -0500 (Fri, 31 Jan 2025) EllapsedTime: 365.0 seconds RetCode: 0 Status: OK PackageFile: categoryCompare_1.50.0.zip PackageFileSize: 2.555 MiB