Package: categoryCompare Version: 1.50.0 Command: /home/biocbuild/bbs-3.20-bioc/R/bin/R CMD INSTALL categoryCompare StartedAt: 2025-01-30 15:44:44 -0500 (Thu, 30 Jan 2025) EndedAt: 2025-01-30 15:45:19 -0500 (Thu, 30 Jan 2025) EllapsedTime: 34.6 seconds RetCode: 0 Status: OK