Package: categoryCompare Version: 1.50.0 Command: rm -rf categoryCompare.buildbin-libdir && mkdir categoryCompare.buildbin-libdir && /Users/biocbuild/BBS/utils/build-universal.sh categoryCompare_1.50.0.tar.gz /Library/Frameworks/R.framework/Resources/bin/R categoryCompare.buildbin-libdir StartedAt: 2024-11-20 04:17:45 -0500 (Wed, 20 Nov 2024) EndedAt: 2024-11-20 04:18:30 -0500 (Wed, 20 Nov 2024) EllapsedTime: 44.8 seconds RetCode: 0 Status: OK PackageFile: categoryCompare_1.50.0.tgz PackageFileSize: 2.548 MiB