Package: categoryCompare Version: 1.52.0 Command: /Library/Frameworks/R.framework/Resources/bin/R CMD build --keep-empty-dirs --no-resave-data categoryCompare StartedAt: 2025-04-21 15:49:25 -0400 (Mon, 21 Apr 2025) EndedAt: 2025-04-21 15:50:32 -0400 (Mon, 21 Apr 2025) EllapsedTime: 66.8 seconds RetCode: 0 Status: OK PackageFile: categoryCompare_1.52.0.tar.gz PackageFileSize: 3.163 MiB