Package: categoryCompare Version: 1.50.0 Command: /Library/Frameworks/R.framework/Resources/bin/R CMD INSTALL categoryCompare StartedAt: 2025-01-30 17:18:03 -0500 (Thu, 30 Jan 2025) EndedAt: 2025-01-30 17:18:36 -0500 (Thu, 30 Jan 2025) EllapsedTime: 32.6 seconds RetCode: 0 Status: OK