Package: categoryCompare Version: 1.50.0 Command: rm -rf categoryCompare.buildbin-libdir && mkdir categoryCompare.buildbin-libdir && /Users/biocbuild/BBS/utils/build-universal.sh categoryCompare_1.50.0.tar.gz /Library/Frameworks/R.framework/Resources/bin/R categoryCompare.buildbin-libdir StartedAt: 2025-02-01 14:11:50 -0500 (Sat, 01 Feb 2025) EndedAt: 2025-02-01 14:12:25 -0500 (Sat, 01 Feb 2025) EllapsedTime: 34.7 seconds RetCode: 0 Status: OK PackageFile: categoryCompare_1.50.0.tgz PackageFileSize: 2.549 MiB