Package: cardelino Version: 1.10.0 Command: E:\biocbuild\bbs-3.21-bioc\R\bin\R.exe CMD INSTALL cardelino StartedAt: 2025-08-14 16:52:47 -0400 (Thu, 14 Aug 2025) EndedAt: 2025-08-14 16:53:53 -0400 (Thu, 14 Aug 2025) EllapsedTime: 66.5 seconds RetCode: 0 Status: OK