Package: cardelino Version: 1.10.0 Command: /home/biocbuild/bbs-3.21-bioc/R/bin/R CMD build --keep-empty-dirs --no-resave-data cardelino StartedAt: 2025-10-15 16:34:09 -0400 (Wed, 15 Oct 2025) EndedAt: 2025-10-15 16:35:32 -0400 (Wed, 15 Oct 2025) EllapsedTime: 83.1 seconds RetCode: 0 Status: OK PackageFile: cardelino_1.10.0.tar.gz PackageFileSize: 3.648 MiB