Package: cardelino Version: 1.10.0 Command: /Library/Frameworks/R.framework/Resources/bin/R CMD INSTALL cardelino StartedAt: 2025-05-08 16:10:44 -0400 (Thu, 08 May 2025) EndedAt: 2025-05-08 16:12:17 -0400 (Thu, 08 May 2025) EllapsedTime: 92.4 seconds RetCode: 0 Status: OK