Package: cTRAP Version: 1.26.0 Command: /Library/Frameworks/R.framework/Resources/bin/R CMD check --install=check:cTRAP.install-out.txt --library=/Library/Frameworks/R.framework/Resources/library --no-vignettes --timings cTRAP_1.26.0.tar.gz StartedAt: 2025-04-21 20:02:40 -0400 (Mon, 21 Apr 2025) EndedAt: 2025-04-21 20:14:35 -0400 (Mon, 21 Apr 2025) EllapsedTime: 714.8 seconds RetCode: 0 Status: OK CheckDir: cTRAP.Rcheck Warnings: 0