Package: cTRAP Version: 1.26.0 Command: /Library/Frameworks/R.framework/Resources/bin/R CMD INSTALL cTRAP StartedAt: 2025-04-21 15:10:12 -0400 (Mon, 21 Apr 2025) EndedAt: 2025-04-21 15:10:24 -0400 (Mon, 21 Apr 2025) EllapsedTime: 11.7 seconds RetCode: 0 Status: OK