Package: cTRAP Version: 1.26.0 Command: /Library/Frameworks/R.framework/Resources/bin/R CMD build --keep-empty-dirs --no-resave-data cTRAP StartedAt: 2025-05-05 21:57:05 -0400 (Mon, 05 May 2025) EndedAt: 2025-05-05 21:59:20 -0400 (Mon, 05 May 2025) EllapsedTime: 134.9 seconds RetCode: 0 Status: OK PackageFile: cTRAP_1.26.0.tar.gz PackageFileSize: 5.299 MiB