Package: cBioPortalData Version: 2.20.0 Command: /home/biocbuild/R/R/bin/R CMD INSTALL cBioPortalData StartedAt: 2025-05-19 20:59:18 -0000 (Mon, 19 May 2025) EndedAt: 2025-05-19 21:00:19 -0000 (Mon, 19 May 2025) EllapsedTime: 61.4 seconds RetCode: 0 Status: OK