Package: bumphunter Version: 1.50.0 Command: /home/biocbuild/R/R/bin/R CMD INSTALL bumphunter StartedAt: 2025-05-12 20:53:28 -0000 (Mon, 12 May 2025) EndedAt: 2025-05-12 20:54:17 -0000 (Mon, 12 May 2025) EllapsedTime: 48.9 seconds RetCode: 0 Status: OK