Package: bumphunter Version: 1.50.0 Command: /home/biocbuild/R/R/bin/R CMD build --keep-empty-dirs --no-resave-data bumphunter StartedAt: 2025-05-12 23:13:13 -0000 (Mon, 12 May 2025) EndedAt: 2025-05-12 23:14:20 -0000 (Mon, 12 May 2025) EllapsedTime: 67.0 seconds RetCode: 0 Status: OK PackageFile: bumphunter_1.50.0.tar.gz PackageFileSize: 2.36 MiB