Package: bumphunter Version: 1.50.0 Command: /Library/Frameworks/R.framework/Resources/bin/R CMD INSTALL bumphunter StartedAt: 2025-04-21 15:21:09 -0400 (Mon, 21 Apr 2025) EndedAt: 2025-04-21 15:21:24 -0400 (Mon, 21 Apr 2025) EllapsedTime: 15.0 seconds RetCode: 0 Status: OK