Package: bumphunter Version: 1.50.0 Command: /Library/Frameworks/R.framework/Resources/bin/R CMD build --keep-empty-dirs --no-resave-data bumphunter StartedAt: 2025-04-21 15:47:51 -0400 (Mon, 21 Apr 2025) EndedAt: 2025-04-21 15:48:15 -0400 (Mon, 21 Apr 2025) EllapsedTime: 24.3 seconds RetCode: 0 Status: OK PackageFile: bumphunter_1.50.0.tar.gz PackageFileSize: 2.366 MiB