Package: bsseq Version: 1.42.0 Command: /home/biocbuild/R/R/bin/R CMD check --install=check:bsseq.install-out.txt --library=/home/biocbuild/R/R/site-library --no-vignettes --timings bsseq_1.42.0.tar.gz StartedAt: 2025-01-31 04:31:58 -0000 (Fri, 31 Jan 2025) EndedAt: 2025-01-31 04:40:26 -0000 (Fri, 31 Jan 2025) EllapsedTime: 508.4 seconds RetCode: 0 Status: OK CheckDir: bsseq.Rcheck Warnings: 0