Package: broadSeq Version: 1.2.0 Command: /Library/Frameworks/R.framework/Resources/bin/R CMD check --install=check:broadSeq.install-out.txt --library=/Library/Frameworks/R.framework/Resources/library --no-vignettes --timings broadSeq_1.2.0.tar.gz StartedAt: 2025-05-09 00:37:41 -0400 (Fri, 09 May 2025) EndedAt: 2025-05-09 00:47:01 -0400 (Fri, 09 May 2025) EllapsedTime: 560.7 seconds RetCode: 0 Status: OK CheckDir: broadSeq.Rcheck Warnings: 0