Package: broadSeq Version: 1.2.0 Command: /Library/Frameworks/R.framework/Resources/bin/R CMD check --install=check:broadSeq.install-out.txt --library=/Library/Frameworks/R.framework/Resources/library --no-vignettes --timings broadSeq_1.2.0.tar.gz StartedAt: 2025-04-21 19:28:58 -0400 (Mon, 21 Apr 2025) EndedAt: 2025-04-21 19:34:19 -0400 (Mon, 21 Apr 2025) EllapsedTime: 321.7 seconds RetCode: 0 Status: OK CheckDir: broadSeq.Rcheck Warnings: 0