Package: brendaDb Version: 1.22.0 Command: /home/biocbuild/R/R/bin/R CMD build --keep-empty-dirs --no-resave-data brendaDb StartedAt: 2025-05-08 23:15:37 -0000 (Thu, 08 May 2025) EndedAt: 2025-05-08 23:16:14 -0000 (Thu, 08 May 2025) EllapsedTime: 37.0 seconds RetCode: 0 Status: OK PackageFile: brendaDb_1.22.0.tar.gz PackageFileSize: 719.8 KiB