Package: breakpointR Version: 1.24.0 Command: rm -rf breakpointR.buildbin-libdir && mkdir breakpointR.buildbin-libdir && /Users/biocbuild/BBS/utils/build-universal.sh breakpointR_1.24.0.tar.gz /Library/Frameworks/R.framework/Resources/bin/R breakpointR.buildbin-libdir StartedAt: 2025-01-31 12:26:19 -0500 (Fri, 31 Jan 2025) EndedAt: 2025-01-31 12:27:22 -0500 (Fri, 31 Jan 2025) EllapsedTime: 63.1 seconds RetCode: 0 Status: OK PackageFile: breakpointR_1.24.0.tgz PackageFileSize: 550.7 KiB