Package: breakpointR Version: 1.24.0 Command: /home/biocbuild/R/R/bin/R CMD INSTALL breakpointR StartedAt: 2024-11-19 20:45:46 -0000 (Tue, 19 Nov 2024) EndedAt: 2024-11-19 20:46:26 -0000 (Tue, 19 Nov 2024) EllapsedTime: 40.8 seconds RetCode: 0 Status: OK