Package: breakpointR Version: 1.26.0 Command: /Library/Frameworks/R.framework/Resources/bin/R CMD check --install=check:breakpointR.install-out.txt --library=/Library/Frameworks/R.framework/Resources/library --no-vignettes --timings breakpointR_1.26.0.tar.gz StartedAt: 2025-05-02 13:35:41 -0400 (Fri, 02 May 2025) EndedAt: 2025-05-02 13:40:18 -0400 (Fri, 02 May 2025) EllapsedTime: 277.0 seconds RetCode: 0 Status: OK CheckDir: breakpointR.Rcheck Warnings: 0