Package: branchpointer
Version: 1.32.0
Command: /home/biocbuild/bbs-3.20-bioc/R/bin/R CMD check --install=check:branchpointer.install-out.txt --library=/home/biocbuild/bbs-3.20-bioc/R/site-library --timings branchpointer_1.32.0.tar.gz
StartedAt: 2024-11-19 23:40:18 -0500 (Tue, 19 Nov 2024)
EndedAt: 2024-11-19 23:45:20 -0500 (Tue, 19 Nov 2024)
EllapsedTime: 302.1 seconds
RetCode: 0
Status: OK
CheckDir: branchpointer.Rcheck
Warnings: 0