Package: branchpointer Version: 1.32.0 Command: /home/biocbuild/R/R/bin/R CMD build --keep-empty-dirs --no-resave-data branchpointer StartedAt: 2025-01-30 22:14:47 -0000 (Thu, 30 Jan 2025) EndedAt: 2025-01-30 22:16:21 -0000 (Thu, 30 Jan 2025) EllapsedTime: 94.0 seconds RetCode: 0 Status: OK PackageFile: branchpointer_1.32.0.tar.gz PackageFileSize: 4.798 MiB