Package: branchpointer Version: 1.32.0 Command: F:\biocbuild\bbs-3.20-bioc\R\bin\R.exe CMD check --no-multiarch --install=check:branchpointer.install-out.txt --library=F:\biocbuild\bbs-3.20-bioc\R\library --no-vignettes --timings branchpointer_1.32.0.tar.gz StartedAt: 2025-01-31 00:02:24 -0500 (Fri, 31 Jan 2025) EndedAt: 2025-01-31 00:08:42 -0500 (Fri, 31 Jan 2025) EllapsedTime: 378.1 seconds RetCode: 0 Status: OK CheckDir: branchpointer.Rcheck Warnings: 0