Package: branchpointer Version: 1.32.0 Command: /home/biocbuild/bbs-3.20-bioc/R/bin/R CMD INSTALL branchpointer StartedAt: 2025-01-30 15:50:44 -0500 (Thu, 30 Jan 2025) EndedAt: 2025-01-30 15:51:55 -0500 (Thu, 30 Jan 2025) EllapsedTime: 70.4 seconds RetCode: 0 Status: OK