Package: branchpointer Version: 1.32.0 Command: /Library/Frameworks/R.framework/Resources/bin/R CMD build --keep-empty-dirs --no-resave-data branchpointer StartedAt: 2025-01-30 17:36:56 -0500 (Thu, 30 Jan 2025) EndedAt: 2025-01-30 17:39:54 -0500 (Thu, 30 Jan 2025) EllapsedTime: 178.6 seconds RetCode: 0 Status: OK PackageFile: branchpointer_1.32.0.tar.gz PackageFileSize: 4.803 MiB