Package: branchpointer Version: 1.32.0 Command: rm -rf branchpointer.buildbin-libdir && mkdir branchpointer.buildbin-libdir && /Users/biocbuild/BBS/utils/build-universal.sh branchpointer_1.32.0.tar.gz /Library/Frameworks/R.framework/Resources/bin/R branchpointer.buildbin-libdir StartedAt: 2025-01-31 12:26:11 -0500 (Fri, 31 Jan 2025) EndedAt: 2025-01-31 12:27:58 -0500 (Fri, 31 Jan 2025) EllapsedTime: 107.1 seconds RetCode: 0 Status: OK PackageFile: branchpointer_1.32.0.tgz PackageFileSize: 4.317 MiB