Package: branchpointer Version: 1.34.0 Command: /Library/Frameworks/R.framework/Resources/bin/R CMD check --install=check:branchpointer.install-out.txt --library=/Library/Frameworks/R.framework/Resources/library --no-vignettes --timings branchpointer_1.34.0.tar.gz StartedAt: 2025-04-21 19:28:19 -0400 (Mon, 21 Apr 2025) EndedAt: 2025-04-21 19:34:09 -0400 (Mon, 21 Apr 2025) EllapsedTime: 349.9 seconds RetCode: 0 Status: OK CheckDir: branchpointer.Rcheck Warnings: 0