Package: branchpointer Version: 1.34.0 Command: /Library/Frameworks/R.framework/Resources/bin/R CMD build --keep-empty-dirs --no-resave-data branchpointer StartedAt: 2025-04-21 16:08:39 -0400 (Mon, 21 Apr 2025) EndedAt: 2025-04-21 16:10:14 -0400 (Mon, 21 Apr 2025) EllapsedTime: 95.0 seconds RetCode: 0 Status: OK PackageFile: branchpointer_1.34.0.tar.gz PackageFileSize: 4.803 MiB