Package: branchpointer Version: 1.34.0 Command: rm -rf branchpointer.buildbin-libdir && mkdir branchpointer.buildbin-libdir && /Users/biocbuild/BBS/utils/build-universal.sh branchpointer_1.34.0.tar.gz /Library/Frameworks/R.framework/Resources/bin/R branchpointer.buildbin-libdir StartedAt: 2025-04-22 00:36:02 -0400 (Tue, 22 Apr 2025) EndedAt: 2025-04-22 00:37:15 -0400 (Tue, 22 Apr 2025) EllapsedTime: 72.7 seconds RetCode: 0 Status: OK PackageFile: branchpointer_1.34.0.tgz PackageFileSize: 4.317 MiB