Package: borealis Version: 1.10.0 Command: /home/biocbuild/bbs-3.20-bioc/R/bin/R CMD check --install=check:borealis.install-out.txt --library=/home/biocbuild/bbs-3.20-bioc/R/site-library --timings borealis_1.10.0.tar.gz StartedAt: 2025-01-30 20:23:46 -0500 (Thu, 30 Jan 2025) EndedAt: 2025-01-30 20:29:40 -0500 (Thu, 30 Jan 2025) EllapsedTime: 354.0 seconds RetCode: 0 Status: OK CheckDir: borealis.Rcheck Warnings: 0