Package: borealis Version: 1.12.0 Command: /Library/Frameworks/R.framework/Resources/bin/R CMD INSTALL borealis StartedAt: 2025-04-21 15:33:02 -0400 (Mon, 21 Apr 2025) EndedAt: 2025-04-21 15:33:55 -0400 (Mon, 21 Apr 2025) EllapsedTime: 53.1 seconds RetCode: 0 Status: OK