Package: borealis Version: 1.12.0 Command: /home/biocbuild/R/R/bin/R CMD build --keep-empty-dirs --no-resave-data borealis StartedAt: 2025-05-08 23:14:21 -0000 (Thu, 08 May 2025) EndedAt: 2025-05-08 23:16:59 -0000 (Thu, 08 May 2025) EllapsedTime: 158.1 seconds RetCode: 0 Status: OK PackageFile: borealis_1.12.0.tar.gz PackageFileSize: 443.1 KiB