Package: bnbc Version: 1.30.0 Command: /Library/Frameworks/R.framework/Resources/bin/R CMD INSTALL bnbc StartedAt: 2025-04-28 19:26:59 -0400 (Mon, 28 Apr 2025) EndedAt: 2025-04-28 19:28:29 -0400 (Mon, 28 Apr 2025) EllapsedTime: 90.7 seconds RetCode: 0 Status: OK