Package: blima Version: 1.40.0 Command: /home/biocbuild/R/R/bin/R CMD check --install=check:blima.install-out.txt --library=/home/biocbuild/R/R/site-library --no-vignettes --timings blima_1.40.0.tar.gz StartedAt: 2025-01-31 04:27:08 -0000 (Fri, 31 Jan 2025) EndedAt: 2025-01-31 04:29:22 -0000 (Fri, 31 Jan 2025) EllapsedTime: 134.1 seconds RetCode: 0 Status: OK CheckDir: blima.Rcheck Warnings: 0